BEGIN:VCALENDAR
VERSION:2.0
PRODID:-//Centre for Mental Health Education
CALSCALE:GREGORIAN
METHOD:PUBLISH
X-WR-CALNAME:Centre for Mental Health Education
X-ORIGINAL-URL:https://cmhe.com.au/workshops/dbt-in-private-practice-s200220/
X-WR-CALDESC:DBT for Private Practice
BEGIN:VEVENT
DTSTART:20200220T090000
DTEND:20200220T160000
SUMMARY:DBT for Private Practice
DESCRIPTION:SYDNEY WORKSHOP: DBT in Private Practice workshop assists clinicians looking to implement a DBT informed approach into their clinical practice as well as individuals who are seeking to be developed further in the individual therapy component of DBT.
LOCATION:UTS Building 11, 81 Broadway Ultimo NSW 2007 Floor 3, Room 204 (CB11.03.204) 
END:VEVENT
END:VCALENDAR
