BEGIN:VCALENDAR
VERSION:2.0
PRODID:-//Centre for Mental Health Education
CALSCALE:GREGORIAN
METHOD:PUBLISH
X-WR-CALNAME:Centre for Mental Health Education
X-ORIGINAL-URL:https://cmhe.com.au/workshops/dbt-skills-s190220/
X-WR-CALDESC:Skills Training in DBT
BEGIN:VEVENT
DTSTART:20200219T090000
DTEND:20200219T160000
SUMMARY:Skills Training in DBT
DESCRIPTION:SYDNEY WORKSHOP: This workshop explores how to teach DBT Skills to individuals with extreme emotion dysregulation. You do not have to be part of a full DBT program to attend this worksop, however, the workshop will explore how to run a skills group in DBT.
LOCATION:UTS Building 11, 81 Broadway Ultimo NSW 2007 Floor 3, Room 204 (CB11.03.204) 
END:VEVENT
END:VCALENDAR
