BEGIN:VCALENDAR
VERSION:2.0
PRODID:-//Centre for Mental Health Education
CALSCALE:GREGORIAN
METHOD:PUBLISH
X-WR-CALNAME:Centre for Mental Health Education
X-ORIGINAL-URL:https://cmhe.com.au/workshops/m-090320/
X-WR-CALDESC:Foundations in Dialectical Behaviour Therapy
BEGIN:VEVENT
DTSTART:20200309T090000
DTEND:20200309T160000
SUMMARY:Foundations in Dialectical Behaviour Therapy
DESCRIPTION:MELBOURNE WORKSHOP: The Foundations DBT workshop assists clinicians looking to be orientated to DBT. For DBT teams who have recently hired new staff this workshop will help provide a strong foundation in DBT for new team members.
LOCATION:Melbourne City College, Melbourne VIC
END:VEVENT
END:VCALENDAR
