BEGIN:VCALENDAR
VERSION:2.0
PRODID:-//Centre for Mental Health Education
CALSCALE:GREGORIAN
METHOD:PUBLISH
X-WR-CALNAME:Centre for Mental Health Education
X-ORIGINAL-URL:https://cmhe.com.au/workshops/dbt-skills-b-160620/
X-WR-CALDESC:Skills Training in DBT
BEGIN:VEVENT
DTSTART:20200806T090000
DTEND:20200806T160000
SUMMARY:Skills Training in DBT
DESCRIPTION:BRISBANE WORKSHOP: This workshop explores how to teach DBT Skills to individuals with extreme emotion dysregulation. You do not have to be part of a full DBT program to attend this worksop, however, the workshop will explore how to run a skills group in DBT.
LOCATION:Hilton Hotel, Brisbane, 190 Elizabeth St, Brisbane City QLD 4000
END:VEVENT
END:VCALENDAR
