BEGIN:VCALENDAR
VERSION:2.0
PRODID:-//Centre for Mental Health Education
CALSCALE:GREGORIAN
METHOD:PUBLISH
X-WR-CALNAME:Centre for Mental Health Education
X-ORIGINAL-URL:https://cmhe.com.au/workshops/syd040221/
X-WR-CALDESC:Foundations in Dialectical Behaviour Therapy (SYD)
BEGIN:VEVENT
DTSTART:20210204T090000
DTEND:20210204T160000
SUMMARY:Foundations in Dialectical Behaviour Therapy (SYD)
DESCRIPTION:SYDNEY WORKSHOP: The Foundations DBT workshop assists clinicians looking to be orientated to DBT. For DBT teams who have recently hired new staff this workshop will help provide a strong foundation in DBT for new team members.
LOCATION:Song Hotel Sydney, 5-11 Wentworth Ave, Sydney NSW 2000, Australia
END:VEVENT
END:VCALENDAR
