BEGIN:VCALENDAR
VERSION:2.0
PRODID:-//Centre for Mental Health Education
CALSCALE:GREGORIAN
METHOD:PUBLISH
X-WR-CALNAME:Centre for Mental Health Education
X-ORIGINAL-URL:https://cmhe.com.au/workshops/webinar-210420/
X-WR-CALDESC:Foundations in Dialectical Behaviour Therapy (Streamed LIVE)
BEGIN:VEVENT
DTSTART:20200421T090000
DTEND:20200421T163000
SUMMARY:Foundations in Dialectical Behaviour Therapy (Streamed LIVE)
DESCRIPTION:
LOCATION:
END:VEVENT
END:VCALENDAR
