BEGIN:VCALENDAR
VERSION:2.0
PRODID:-//Centre for Mental Health Education
CALSCALE:GREGORIAN
METHOD:PUBLISH
X-WR-CALNAME:Centre for Mental Health Education
X-ORIGINAL-URL:https://cmhe.com.au/workshops/dbt-youth-web-290420/
X-WR-CALDESC:DBT Adapted for Youth (LIVE Webinar)
BEGIN:VEVENT
DTSTART:20200429T090000
DTEND:20200429T163000
SUMMARY:DBT Adapted for Youth (LIVE Webinar)
DESCRIPTION:LIVE WEBINAR: DBT Youth workshop assists clinicians looking to implement a DBT informed approach into their clinical practice as well as individuals who are seeking to be developed further when apply DBT in Youth Populations.
LOCATION:
END:VEVENT
END:VCALENDAR
