BEGIN:VCALENDAR
VERSION:2.0
PRODID:-//Centre for Mental Health Education
CALSCALE:GREGORIAN
METHOD:PUBLISH
X-WR-CALNAME:Centre for Mental Health Education
X-ORIGINAL-URL:https://cmhe.com.au/workshops/dbt-in-crisis-web-120520/
X-WR-CALDESC:DBT for Crisis Services &#8211; LIVE Webinar
BEGIN:VEVENT
DTSTART:20200721T090000
DTEND:20200721T160000
SUMMARY:DBT for Crisis Services &#8211; LIVE Webinar
DESCRIPTION:SYDNEY WORKSHOP: This workshop explores a DBT informed approach for the management of individuals with extreme emotion dysregulation when in crisis. Clinicians on crisis assessment and treatment teams and other mental health crisis services have found this workshop of use.
LOCATION:Online Webinar Streamed LIVE 9am-4:00pm AEST
END:VEVENT
END:VCALENDAR
