BEGIN:VCALENDAR
VERSION:2.0
PRODID:-//Centre for Mental Health Education
CALSCALE:GREGORIAN
METHOD:PUBLISH
X-WR-CALNAME:Centre for Mental Health Education
X-ORIGINAL-URL:https://cmhe.com.au/workshops/webinar-280420/
X-WR-CALDESC:Dialectical Behaviour Therapy Adaptions for Private Practice (5 LIVE Webinars)
BEGIN:VEVENT
DTSTART:20200428T180000
DTEND:20200526T193000
SUMMARY:Dialectical Behaviour Therapy Adaptions for Private Practice (5 LIVE Webinars)
DESCRIPTION:
LOCATION:Online Webinar Streamed LIVE 6pm-7.30pm AEST
END:VEVENT
END:VCALENDAR
