BEGIN:VCALENDAR
VERSION:2.0
PRODID:-//Centre for Mental Health Education
CALSCALE:GREGORIAN
METHOD:PUBLISH
X-WR-CALNAME:Centre for Mental Health Education
X-ORIGINAL-URL:https://cmhe.com.au/workshops/webinar-150620/
X-WR-CALDESC:Foundations in Dialectical Behaviour Therapy (Webinar)
BEGIN:VEVENT
DTSTART:20200615T090000
DTEND:20200615T160000
SUMMARY:Foundations in Dialectical Behaviour Therapy (Webinar)
DESCRIPTION:
LOCATION:Online Webinar Streamed LIVE 9am-4:00pm
END:VEVENT
END:VCALENDAR
