BEGIN:VCALENDAR
VERSION:2.0
PRODID:-//Centre for Mental Health Education
CALSCALE:GREGORIAN
METHOD:PUBLISH
X-WR-CALNAME:Centre for Mental Health Education
X-ORIGINAL-URL:https://cmhe.com.au/workshops/comprehensive-dbt-s-200320/
X-WR-CALDESC:4 Day DBT Intensive Webinar &#038; Online Course
BEGIN:VEVENT
DTSTART:20200604T000000
DTEND:20200607T000000
SUMMARY:4 Day DBT Intensive Webinar &#038; Online Course
DESCRIPTION:WEBINAR AND ONLINE WORKSHOP: Our DBT Comprehensive training provides clinicians with a comprehensive understanding of DBT and its implementation in a variety of settings including adult mental health alcohol and other drugs, youth populations and more
LOCATION:GoToWebinar
END:VEVENT
END:VCALENDAR
