BEGIN:VCALENDAR
VERSION:2.0
PRODID:-//Centre for Mental Health Education
CALSCALE:GREGORIAN
METHOD:PUBLISH
X-WR-CALNAME:Centre for Mental Health Education
X-ORIGINAL-URL:https://cmhe.com.au/workshops/s-180220/
X-WR-CALDESC:Foundations in Dialectical Behaviour Therapy
BEGIN:VEVENT
DTSTART:20200218T090000
DTEND:20200218T160000
SUMMARY:Foundations in Dialectical Behaviour Therapy
DESCRIPTION:SYDNEY WORKSHOP: The Foundations DBT workshop assists clinicians looking to be orientated to DBT. For DBT teams who have recently hired new staff this workshop will help provide a strong foundation in DBT for new team members.
LOCATION:UTS Building 11, 81 Broadway Ultimo NSW 2007 Floor 4, Room 103/105 (CB11.04.103/105)
END:VEVENT
END:VCALENDAR
